View In:
ArcGIS JavaScript
ArcGIS Online Map Viewer
ArcGIS Earth
ArcMap
View Footprint In:
ArcGIS Online Map Viewer
Service Description: Global/SoilMoistureEastAfrica
Name: Global/SoilMoistureEastAfrica
Description:
Single Fused Map Cache: false
Extent:
XMin: -17.515000000000004
YMin: -34.91499999999999
XMax: 53.015
YMax: 32.015
Spatial Reference: GEOGCS["GCS_Coordinate_System_imported_from_GRIB_file",DATUM["D_Unknown",SPHEROID["Sphere",6371200.0,0.0]],PRIMEM["Greenwich",0.0],UNIT["Degree",0.0174532925199433]]
Initial Extent:
XMin: -17.515000000000004
YMin: -34.91499999999999
XMax: 53.015
YMax: 32.015
Spatial Reference: GEOGCS["GCS_Coordinate_System_imported_from_GRIB_file",DATUM["D_Unknown",SPHEROID["Sphere",6371200.0,0.0]],PRIMEM["Greenwich",0.0],UNIT["Degree",0.0174532925199433]]
Full Extent:
XMin: -17.515000000000004
YMin: -34.91499999999999
XMax: 53.015
YMax: 32.015
Spatial Reference: GEOGCS["GCS_Coordinate_System_imported_from_GRIB_file",DATUM["D_Unknown",SPHEROID["Sphere",6371200.0,0.0]],PRIMEM["Greenwich",0.0],UNIT["Degree",0.0174532925199433]]
Time Info:
Start Time Field: Locust_Date
End Time Field: Locust_Date
Time Extent:
[2020/03/16 00:00:00 UTC, 2025/10/15 00:00:00 UTC]
Time Reference:
N/A
Pixel Size X: 0.03
Pixel Size Y: 0.029999999999999995
Band Count: 1
Pixel Type: F32
RasterFunction Infos: {"rasterFunctionInfos": [{
"name": "None",
"description": "A No-Op Function.",
"help": ""
}]}
Mensuration Capabilities: Basic
Has Histograms: true
Has Colormap: false
Has Multi Dimensions : false
Rendering Rule:
Min Scale: 0
Max Scale: 0
Copyright Text: Soil moisture modeled data provided by SERVIR and SPoRT, FEWSNET and GSFC using NASA Land Information System (Kumar et al., 2006; McNally et al., 2017, Case et al., 2016)
Service Data Type: esriImageServiceDataTypeGeneric
Min Values: 0.01999998474121094
Max Values: 0.44399998474121094
Mean Values: 0.22448878161630167
Standard Deviation Values: 0.10373329011458626
Object ID Field: OBJECTID
Fields:
-
OBJECTID
(
type: esriFieldTypeOID, alias: OBJECTID
)
-
Shape
(
type: esriFieldTypeGeometry, alias: Shape
)
-
Name
(
type: esriFieldTypeString, alias: Name, length: 200
)
-
MinPS
(
type: esriFieldTypeDouble, alias: MinPS
)
-
MaxPS
(
type: esriFieldTypeDouble, alias: MaxPS
)
-
LowPS
(
type: esriFieldTypeDouble, alias: LowPS
)
-
HighPS
(
type: esriFieldTypeDouble, alias: HighPS
)
-
Category
(
type: esriFieldTypeInteger, alias: Category
, Coded Values:
[0: Unknown]
, [1: Primary]
, [2: Overview]
, ...6 more...
)
-
Tag
(
type: esriFieldTypeString, alias: Tag, length: 100
)
-
GroupName
(
type: esriFieldTypeString, alias: GroupName, length: 100
)
-
ProductName
(
type: esriFieldTypeString, alias: ProductName, length: 100
)
-
CenterX
(
type: esriFieldTypeDouble, alias: CenterX
)
-
CenterY
(
type: esriFieldTypeDouble, alias: CenterY
)
-
ZOrder
(
type: esriFieldTypeInteger, alias: ZOrder
)
-
Shape_Length
(
type: esriFieldTypeDouble, alias: Shape_Length
)
-
Shape_Area
(
type: esriFieldTypeDouble, alias: Shape_Area
)
-
Locust_Date
(
type: esriFieldTypeDate, alias: Locust_Date, length: 8
)
Default Mosaic Method: Northwest
Allowed Mosaic Methods: NorthWest,Center,LockRaster,ByAttribute,Nadir,Viewpoint,Seamline,None
SortField:
SortValue: null
Mosaic Operator: First
Default Compression Quality: 75
Default Resampling Method: Bilinear
Max Record Count: 1000
Max Image Height: 4100
Max Image Width: 15000
Max Download Image Count: 20
Max Mosaic Image Count: 20
Allow Raster Function: true
Allow Copy: true
Allow Analysis: true
Allow Compute TiePoints: false
Supports Statistics: true
Supports Advanced Queries: true
Use StandardizedQueries: true
Raster Type Infos:
Name: Raster Dataset
Description: Supports all ArcGIS Raster Datasets
Help:
Has Raster Attribute Table: false
Edit Fields Info: null
Ownership Based AccessControl For Rasters: null
Child Resources:
Info
Histograms
Statistics
Key Properties
Legend
Raster Function Infos
Supported Operations:
Export Image
Query
Identify
Measure
Compute Histograms
Compute Statistics Histograms
Get Samples
Compute Class Statistics
Query Boundary
Compute Pixel Location
Compute Angles
Validate
Project